BEGIN:VCALENDAR
VERSION:2.0
PRODID:-//Pinot &amp; Picasso Rouse Hill - ECPv4.9.14//NONSGML v1.0//EN
CALSCALE:GREGORIAN
METHOD:PUBLISH
X-WR-CALNAME:Pinot &amp; Picasso Rouse Hill
X-ORIGINAL-URL:https://www.pinotandpicasso.com.au/rouse-hill
X-WR-CALDESC:Events for Pinot &amp; Picasso Rouse Hill
BEGIN:VTIMEZONE
TZID:Australia/Sydney
BEGIN:STANDARD
TZOFFSETFROM:+1100
TZOFFSETTO:+1000
TZNAME:AEST
DTSTART:20200404T160000
END:STANDARD
BEGIN:DAYLIGHT
TZOFFSETFROM:+1000
TZOFFSETTO:+1100
TZNAME:AEDT
DTSTART:20201003T160000
END:DAYLIGHT
END:VTIMEZONE
BEGIN:VEVENT
DTSTART;TZID=Australia/Sydney:20200301T140000
DTEND;TZID=Australia/Sydney:20200301T170000
DTSTAMP:20200229T131228
CREATED:20200107T075414Z
LAST-MODIFIED:20200207T040321Z
UID:78057-1583071200-1583082000@www.pinotandpicasso.com.au
SUMMARY:You wish Jellyfish
DESCRIPTION:
URL:https://www.pinotandpicasso.com.au/rouse-hill/session/you-wish-jellyfish/
LOCATION:Pinot & Picasso Rouse Hill\, 4/320 Annangrove Road\, Rouse Hill\, NSW\, 2155\, Australia
CATEGORIES:Workshops
ATTACH;FMTTYPE=:
ORGANIZER;CN="Pinot%20%26%20Picasso":MAILTO:hello@pinotandpicasso.com.au
GEO:-33.6652507;150.9198907
X-APPLE-STRUCTURED-LOCATION;VALUE=URI;X-ADDRESS=Pinot & Picasso Rouse Hill 4/320 Annangrove Road Rouse Hill NSW 2155 Australia;X-APPLE-RADIUS=500;X-TITLE=4/320 Annangrove Road:geo:150.9198907,-33.6652507
END:VEVENT
BEGIN:VEVENT
DTSTART;TZID=Australia/Sydney:20200306T190000
DTEND;TZID=Australia/Sydney:20200306T220000
DTSTAMP:20200229T131228
CREATED:20200120T054548Z
LAST-MODIFIED:20200216T083445Z
UID:79500-1583521200-1583532000@www.pinotandpicasso.com.au
SUMMARY:Hogwarts Starry Night
DESCRIPTION:
URL:https://www.pinotandpicasso.com.au/rouse-hill/session/hogwarts-starry-night-2/
LOCATION:Pinot & Picasso Rouse Hill\, 4/320 Annangrove Road\, Rouse Hill\, NSW\, 2155\, Australia
CATEGORIES:Workshops
ATTACH;FMTTYPE=:
ORGANIZER;CN="Pinot%20%26%20Picasso":MAILTO:hello@pinotandpicasso.com.au
GEO:-33.6652507;150.9198907
X-APPLE-STRUCTURED-LOCATION;VALUE=URI;X-ADDRESS=Pinot & Picasso Rouse Hill 4/320 Annangrove Road Rouse Hill NSW 2155 Australia;X-APPLE-RADIUS=500;X-TITLE=4/320 Annangrove Road:geo:150.9198907,-33.6652507
END:VEVENT
BEGIN:VEVENT
DTSTART;TZID=Australia/Sydney:20200307T150000
DTEND;TZID=Australia/Sydney:20200307T180000
DTSTAMP:20200229T131228
CREATED:20200120T054740Z
LAST-MODIFIED:20200216T005458Z
UID:79503-1583593200-1583604000@www.pinotandpicasso.com.au
SUMMARY:Waves
DESCRIPTION:
URL:https://www.pinotandpicasso.com.au/rouse-hill/session/waves-2/
LOCATION:Pinot & Picasso Rouse Hill\, 4/320 Annangrove Road\, Rouse Hill\, NSW\, 2155\, Australia
CATEGORIES:Workshops
ATTACH;FMTTYPE=:
ORGANIZER;CN="Pinot%20%26%20Picasso":MAILTO:hello@pinotandpicasso.com.au
GEO:-33.6652507;150.9198907
X-APPLE-STRUCTURED-LOCATION;VALUE=URI;X-ADDRESS=Pinot & Picasso Rouse Hill 4/320 Annangrove Road Rouse Hill NSW 2155 Australia;X-APPLE-RADIUS=500;X-TITLE=4/320 Annangrove Road:geo:150.9198907,-33.6652507
END:VEVENT
BEGIN:VEVENT
DTSTART;TZID=Australia/Sydney:20200307T190000
DTEND;TZID=Australia/Sydney:20200307T220000
DTSTAMP:20200229T131228
CREATED:20200131T093132Z
LAST-MODIFIED:20200207T035813Z
UID:80611-1583607600-1583618400@www.pinotandpicasso.com.au
SUMMARY:The-Boy-Who-Lives
DESCRIPTION:
URL:https://www.pinotandpicasso.com.au/rouse-hill/session/the-boy-who-lives/
LOCATION:Pinot & Picasso Rouse Hill\, 4/320 Annangrove Road\, Rouse Hill\, NSW\, 2155\, Australia
CATEGORIES:Workshops
ATTACH;FMTTYPE=:
ORGANIZER;CN="Pinot%20%26%20Picasso":MAILTO:hello@pinotandpicasso.com.au
GEO:-33.6652507;150.9198907
X-APPLE-STRUCTURED-LOCATION;VALUE=URI;X-ADDRESS=Pinot & Picasso Rouse Hill 4/320 Annangrove Road Rouse Hill NSW 2155 Australia;X-APPLE-RADIUS=500;X-TITLE=4/320 Annangrove Road:geo:150.9198907,-33.6652507
END:VEVENT
BEGIN:VEVENT
DTSTART;TZID=Australia/Sydney:20200308T140000
DTEND;TZID=Australia/Sydney:20200308T170000
DTSTAMP:20200229T131228
CREATED:20200131T224136Z
LAST-MODIFIED:20200207T035706Z
UID:80664-1583676000-1583686800@www.pinotandpicasso.com.au
SUMMARY:The Free Elf
DESCRIPTION:
URL:https://www.pinotandpicasso.com.au/rouse-hill/session/the-free-elf-2/
LOCATION:Pinot & Picasso Rouse Hill\, 4/320 Annangrove Road\, Rouse Hill\, NSW\, 2155\, Australia
CATEGORIES:Workshops
ATTACH;FMTTYPE=:
ORGANIZER;CN="Pinot%20%26%20Picasso":MAILTO:hello@pinotandpicasso.com.au
GEO:-33.6652507;150.9198907
X-APPLE-STRUCTURED-LOCATION;VALUE=URI;X-ADDRESS=Pinot & Picasso Rouse Hill 4/320 Annangrove Road Rouse Hill NSW 2155 Australia;X-APPLE-RADIUS=500;X-TITLE=4/320 Annangrove Road:geo:150.9198907,-33.6652507
END:VEVENT
BEGIN:VEVENT
DTSTART;TZID=Australia/Sydney:20200313T190000
DTEND;TZID=Australia/Sydney:20200313T220000
DTSTAMP:20200229T131228
CREATED:20200120T061615Z
LAST-MODIFIED:20200207T035529Z
UID:79517-1584126000-1584136800@www.pinotandpicasso.com.au
SUMMARY:Frida
DESCRIPTION:
URL:https://www.pinotandpicasso.com.au/rouse-hill/session/frida-16/
LOCATION:Pinot & Picasso Rouse Hill\, 4/320 Annangrove Road\, Rouse Hill\, NSW\, 2155\, Australia
CATEGORIES:Workshops
ATTACH;FMTTYPE=:
ORGANIZER;CN="Pinot%20%26%20Picasso":MAILTO:hello@pinotandpicasso.com.au
GEO:-33.6652507;150.9198907
X-APPLE-STRUCTURED-LOCATION;VALUE=URI;X-ADDRESS=Pinot & Picasso Rouse Hill 4/320 Annangrove Road Rouse Hill NSW 2155 Australia;X-APPLE-RADIUS=500;X-TITLE=4/320 Annangrove Road:geo:150.9198907,-33.6652507
END:VEVENT
BEGIN:VEVENT
DTSTART;TZID=Australia/Sydney:20200314T150000
DTEND;TZID=Australia/Sydney:20200314T180000
DTSTAMP:20200229T131228
CREATED:20200120T061912Z
LAST-MODIFIED:20200227T020354Z
UID:79520-1584198000-1584208800@www.pinotandpicasso.com.au
SUMMARY:Northern Lights
DESCRIPTION:
URL:https://www.pinotandpicasso.com.au/rouse-hill/session/northern-lights-8/
LOCATION:Pinot & Picasso Rouse Hill\, 4/320 Annangrove Road\, Rouse Hill\, NSW\, 2155\, Australia
CATEGORIES:Workshops
ATTACH;FMTTYPE=:
ORGANIZER;CN="Pinot%20%26%20Picasso":MAILTO:hello@pinotandpicasso.com.au
GEO:-33.6652507;150.9198907
X-APPLE-STRUCTURED-LOCATION;VALUE=URI;X-ADDRESS=Pinot & Picasso Rouse Hill 4/320 Annangrove Road Rouse Hill NSW 2155 Australia;X-APPLE-RADIUS=500;X-TITLE=4/320 Annangrove Road:geo:150.9198907,-33.6652507
END:VEVENT
BEGIN:VEVENT
DTSTART;TZID=Australia/Sydney:20200314T190000
DTEND;TZID=Australia/Sydney:20200314T220000
DTSTAMP:20200229T131228
CREATED:20200120T062116Z
LAST-MODIFIED:20200207T035351Z
UID:79523-1584212400-1584223200@www.pinotandpicasso.com.au
SUMMARY:Eiffel Tower
DESCRIPTION:
URL:https://www.pinotandpicasso.com.au/rouse-hill/session/eiffel-tower-2/
LOCATION:Pinot & Picasso Rouse Hill\, 4/320 Annangrove Road\, Rouse Hill\, NSW\, 2155\, Australia
CATEGORIES:Workshops
ATTACH;FMTTYPE=image/png:https://www.pinotandpicasso.com.au/rouse-hill/wp-content/uploads/2018/06/TourdeEiffel-e1530692223612.png
ORGANIZER;CN="Pinot%20%26%20Picasso":MAILTO:hello@pinotandpicasso.com.au
GEO:-33.6652507;150.9198907
X-APPLE-STRUCTURED-LOCATION;VALUE=URI;X-ADDRESS=Pinot & Picasso Rouse Hill 4/320 Annangrove Road Rouse Hill NSW 2155 Australia;X-APPLE-RADIUS=500;X-TITLE=4/320 Annangrove Road:geo:150.9198907,-33.6652507
END:VEVENT
BEGIN:VEVENT
DTSTART;TZID=Australia/Sydney:20200315T140000
DTEND;TZID=Australia/Sydney:20200315T170000
DTSTAMP:20200229T131228
CREATED:20200120T062415Z
LAST-MODIFIED:20200202T012751Z
UID:79526-1584280800-1584291600@www.pinotandpicasso.com.au
SUMMARY:The Old Gum Tree
DESCRIPTION:
URL:https://www.pinotandpicasso.com.au/rouse-hill/session/the-old-gum-tree-5/
LOCATION:Pinot & Picasso Rouse Hill\, 4/320 Annangrove Road\, Rouse Hill\, NSW\, 2155\, Australia
CATEGORIES:Workshops
ATTACH;FMTTYPE=:
ORGANIZER;CN="Pinot%20%26%20Picasso":MAILTO:hello@pinotandpicasso.com.au
GEO:-33.6652507;150.9198907
X-APPLE-STRUCTURED-LOCATION;VALUE=URI;X-ADDRESS=Pinot & Picasso Rouse Hill 4/320 Annangrove Road Rouse Hill NSW 2155 Australia;X-APPLE-RADIUS=500;X-TITLE=4/320 Annangrove Road:geo:150.9198907,-33.6652507
END:VEVENT
BEGIN:VEVENT
DTSTART;TZID=Australia/Sydney:20200320T190000
DTEND;TZID=Australia/Sydney:20200320T220000
DTSTAMP:20200229T131228
CREATED:20200120T062626Z
LAST-MODIFIED:20200207T035243Z
UID:79529-1584730800-1584741600@www.pinotandpicasso.com.au
SUMMARY:Sunflowers
DESCRIPTION:
URL:https://www.pinotandpicasso.com.au/rouse-hill/session/sunflowers-10/
LOCATION:Pinot & Picasso Rouse Hill\, 4/320 Annangrove Road\, Rouse Hill\, NSW\, 2155\, Australia
CATEGORIES:Workshops
ATTACH;FMTTYPE=:
ORGANIZER;CN="Pinot%20%26%20Picasso":MAILTO:hello@pinotandpicasso.com.au
GEO:-33.6652507;150.9198907
X-APPLE-STRUCTURED-LOCATION;VALUE=URI;X-ADDRESS=Pinot & Picasso Rouse Hill 4/320 Annangrove Road Rouse Hill NSW 2155 Australia;X-APPLE-RADIUS=500;X-TITLE=4/320 Annangrove Road:geo:150.9198907,-33.6652507
END:VEVENT
BEGIN:VEVENT
DTSTART;TZID=Australia/Sydney:20200321T110000
DTEND;TZID=Australia/Sydney:20200321T140000
DTSTAMP:20200229T131228
CREATED:20200120T063152Z
LAST-MODIFIED:20200207T035149Z
UID:79532-1584788400-1584799200@www.pinotandpicasso.com.au
SUMMARY:P&P Family Fun Session
DESCRIPTION:Pinot & Picasso are pleased to introduce  – P&P Family Fun sessions! This morning class is open to all ages and is a non-alcohol event. We look forward to seeing families come and enjoy a fun and creative activity together! \n
URL:https://www.pinotandpicasso.com.au/rouse-hill/session/pp-family-fun-session/
LOCATION:Pinot & Picasso Rouse Hill\, 4/320 Annangrove Road\, Rouse Hill\, NSW\, 2155\, Australia
CATEGORIES:Workshops
ATTACH;FMTTYPE=image/jpeg:https://www.pinotandpicasso.com.au/rouse-hill/wp-content/uploads/2018/06/Cactushorizon-e1528094531414.jpg
ORGANIZER;CN="Pinot%20%26%20Picasso":MAILTO:hello@pinotandpicasso.com.au
GEO:-33.6652507;150.9198907
X-APPLE-STRUCTURED-LOCATION;VALUE=URI;X-ADDRESS=Pinot & Picasso Rouse Hill 4/320 Annangrove Road Rouse Hill NSW 2155 Australia;X-APPLE-RADIUS=500;X-TITLE=4/320 Annangrove Road:geo:150.9198907,-33.6652507
END:VEVENT
BEGIN:VEVENT
DTSTART;TZID=Australia/Sydney:20200321T150000
DTEND;TZID=Australia/Sydney:20200321T180000
DTSTAMP:20200229T131228
CREATED:20200120T063331Z
LAST-MODIFIED:20200207T034855Z
UID:79537-1584802800-1584813600@www.pinotandpicasso.com.au
SUMMARY:Safari
DESCRIPTION:
URL:https://www.pinotandpicasso.com.au/rouse-hill/session/safari-9/
LOCATION:Pinot & Picasso Rouse Hill\, 4/320 Annangrove Road\, Rouse Hill\, NSW\, 2155\, Australia
CATEGORIES:Workshops
ATTACH;FMTTYPE=:
ORGANIZER;CN="Pinot%20%26%20Picasso":MAILTO:hello@pinotandpicasso.com.au
GEO:-33.6652507;150.9198907
X-APPLE-STRUCTURED-LOCATION;VALUE=URI;X-ADDRESS=Pinot & Picasso Rouse Hill 4/320 Annangrove Road Rouse Hill NSW 2155 Australia;X-APPLE-RADIUS=500;X-TITLE=4/320 Annangrove Road:geo:150.9198907,-33.6652507
END:VEVENT
BEGIN:VEVENT
DTSTART;TZID=Australia/Sydney:20200321T190000
DTEND;TZID=Australia/Sydney:20200321T220000
DTSTAMP:20200229T131228
CREATED:20200120T063518Z
LAST-MODIFIED:20200207T034811Z
UID:79540-1584817200-1584828000@www.pinotandpicasso.com.au
SUMMARY:Namaste
DESCRIPTION:
URL:https://www.pinotandpicasso.com.au/rouse-hill/session/namaste-2/
LOCATION:Pinot & Picasso Rouse Hill\, 4/320 Annangrove Road\, Rouse Hill\, NSW\, 2155\, Australia
CATEGORIES:Workshops
ATTACH;FMTTYPE=:
ORGANIZER;CN="Pinot%20%26%20Picasso":MAILTO:hello@pinotandpicasso.com.au
GEO:-33.6652507;150.9198907
X-APPLE-STRUCTURED-LOCATION;VALUE=URI;X-ADDRESS=Pinot & Picasso Rouse Hill 4/320 Annangrove Road Rouse Hill NSW 2155 Australia;X-APPLE-RADIUS=500;X-TITLE=4/320 Annangrove Road:geo:150.9198907,-33.6652507
END:VEVENT
BEGIN:VEVENT
DTSTART;TZID=Australia/Sydney:20200322T100000
DTEND;TZID=Australia/Sydney:20200322T130000
DTSTAMP:20200229T131228
CREATED:20200217T044313Z
LAST-MODIFIED:20200220T073517Z
UID:82056-1584871200-1584882000@www.pinotandpicasso.com.au
SUMMARY:Bella's Private
DESCRIPTION:
URL:https://www.pinotandpicasso.com.au/rouse-hill/session/bellas-private/
LOCATION:Pinot & Picasso Rouse Hill\, 4/320 Annangrove Road\, Rouse Hill\, NSW\, 2155\, Australia
ORGANIZER;CN="Pinot%20%26%20Picasso":MAILTO:hello@pinotandpicasso.com.au
GEO:-33.6652507;150.9198907
X-APPLE-STRUCTURED-LOCATION;VALUE=URI;X-ADDRESS=Pinot & Picasso Rouse Hill 4/320 Annangrove Road Rouse Hill NSW 2155 Australia;X-APPLE-RADIUS=500;X-TITLE=4/320 Annangrove Road:geo:150.9198907,-33.6652507
END:VEVENT
BEGIN:VEVENT
DTSTART;TZID=Australia/Sydney:20200322T140000
DTEND;TZID=Australia/Sydney:20200322T170000
DTSTAMP:20200229T131228
CREATED:20200120T063658Z
LAST-MODIFIED:20200207T034711Z
UID:79543-1584885600-1584896400@www.pinotandpicasso.com.au
SUMMARY:Solitary Waratah
DESCRIPTION:
URL:https://www.pinotandpicasso.com.au/rouse-hill/session/solitary-waratah-2/
LOCATION:Pinot & Picasso Rouse Hill\, 4/320 Annangrove Road\, Rouse Hill\, NSW\, 2155\, Australia
CATEGORIES:Workshops
ATTACH;FMTTYPE=:
ORGANIZER;CN="Pinot%20%26%20Picasso":MAILTO:hello@pinotandpicasso.com.au
GEO:-33.6652507;150.9198907
X-APPLE-STRUCTURED-LOCATION;VALUE=URI;X-ADDRESS=Pinot & Picasso Rouse Hill 4/320 Annangrove Road Rouse Hill NSW 2155 Australia;X-APPLE-RADIUS=500;X-TITLE=4/320 Annangrove Road:geo:150.9198907,-33.6652507
END:VEVENT
BEGIN:VEVENT
DTSTART;TZID=Australia/Sydney:20200327T190000
DTEND;TZID=Australia/Sydney:20200327T220000
DTSTAMP:20200229T131228
CREATED:20200120T063853Z
LAST-MODIFIED:20200207T034621Z
UID:79546-1585335600-1585346400@www.pinotandpicasso.com.au
SUMMARY:Dragonfly
DESCRIPTION:
URL:https://www.pinotandpicasso.com.au/rouse-hill/session/dragonfly-3/
LOCATION:Pinot & Picasso Rouse Hill\, 4/320 Annangrove Road\, Rouse Hill\, NSW\, 2155\, Australia
CATEGORIES:Workshops
ATTACH;FMTTYPE=:
ORGANIZER;CN="Pinot%20%26%20Picasso":MAILTO:hello@pinotandpicasso.com.au
GEO:-33.6652507;150.9198907
X-APPLE-STRUCTURED-LOCATION;VALUE=URI;X-ADDRESS=Pinot & Picasso Rouse Hill 4/320 Annangrove Road Rouse Hill NSW 2155 Australia;X-APPLE-RADIUS=500;X-TITLE=4/320 Annangrove Road:geo:150.9198907,-33.6652507
END:VEVENT
BEGIN:VEVENT
DTSTART;TZID=Australia/Sydney:20200328T150000
DTEND;TZID=Australia/Sydney:20200328T180000
DTSTAMP:20200229T131228
CREATED:20200120T064123Z
LAST-MODIFIED:20200207T034517Z
UID:79549-1585407600-1585418400@www.pinotandpicasso.com.au
SUMMARY:Day of the Dead
DESCRIPTION:
URL:https://www.pinotandpicasso.com.au/rouse-hill/session/day-of-the-dead-2/
LOCATION:Pinot & Picasso Rouse Hill\, 4/320 Annangrove Road\, Rouse Hill\, NSW\, 2155\, Australia
CATEGORIES:Workshops
ATTACH;FMTTYPE=:
ORGANIZER;CN="Pinot%20%26%20Picasso":MAILTO:hello@pinotandpicasso.com.au
GEO:-33.6652507;150.9198907
X-APPLE-STRUCTURED-LOCATION;VALUE=URI;X-ADDRESS=Pinot & Picasso Rouse Hill 4/320 Annangrove Road Rouse Hill NSW 2155 Australia;X-APPLE-RADIUS=500;X-TITLE=4/320 Annangrove Road:geo:150.9198907,-33.6652507
END:VEVENT
BEGIN:VEVENT
DTSTART;TZID=Australia/Sydney:20200328T190000
DTEND;TZID=Australia/Sydney:20200328T220000
DTSTAMP:20200229T131228
CREATED:20200120T064431Z
LAST-MODIFIED:20200207T034356Z
UID:79552-1585422000-1585432800@www.pinotandpicasso.com.au
SUMMARY:Wine Time
DESCRIPTION:
URL:https://www.pinotandpicasso.com.au/rouse-hill/session/wine-time-10/
LOCATION:Pinot & Picasso Rouse Hill\, 4/320 Annangrove Road\, Rouse Hill\, NSW\, 2155\, Australia
CATEGORIES:Workshops
ATTACH;FMTTYPE=image/jpeg:https://www.pinotandpicasso.com.au/rouse-hill/wp-content/uploads/2018/11/49450564_389790998436141_5149921776544776192_n-e1546120895752.jpg
ORGANIZER;CN="Pinot%20%26%20Picasso":MAILTO:hello@pinotandpicasso.com.au
GEO:-33.6652507;150.9198907
X-APPLE-STRUCTURED-LOCATION;VALUE=URI;X-ADDRESS=Pinot & Picasso Rouse Hill 4/320 Annangrove Road Rouse Hill NSW 2155 Australia;X-APPLE-RADIUS=500;X-TITLE=4/320 Annangrove Road:geo:150.9198907,-33.6652507
END:VEVENT
BEGIN:VEVENT
DTSTART;TZID=Australia/Sydney:20200329T140000
DTEND;TZID=Australia/Sydney:20200329T170000
DTSTAMP:20200229T131228
CREATED:20200120T064622Z
LAST-MODIFIED:20200207T034133Z
UID:79555-1585490400-1585501200@www.pinotandpicasso.com.au
SUMMARY:Bohemian Elephant
DESCRIPTION:
URL:https://www.pinotandpicasso.com.au/rouse-hill/session/bohemian-elephant-3/
LOCATION:Pinot & Picasso Rouse Hill\, 4/320 Annangrove Road\, Rouse Hill\, NSW\, 2155\, Australia
CATEGORIES:Workshops
ATTACH;FMTTYPE=:
ORGANIZER;CN="Pinot%20%26%20Picasso":MAILTO:hello@pinotandpicasso.com.au
GEO:-33.6652507;150.9198907
X-APPLE-STRUCTURED-LOCATION;VALUE=URI;X-ADDRESS=Pinot & Picasso Rouse Hill 4/320 Annangrove Road Rouse Hill NSW 2155 Australia;X-APPLE-RADIUS=500;X-TITLE=4/320 Annangrove Road:geo:150.9198907,-33.6652507
END:VEVENT
BEGIN:VEVENT
DTSTART;TZID=Australia/Sydney:20200404T150000
DTEND;TZID=Australia/Sydney:20200404T180000
DTSTAMP:20200229T131228
CREATED:20200221T000350Z
LAST-MODIFIED:20200221T000351Z
UID:82531-1586012400-1586023200@www.pinotandpicasso.com.au
SUMMARY:Eiffel Tower
DESCRIPTION:
URL:https://www.pinotandpicasso.com.au/rouse-hill/session/eiffel-tower-3/
LOCATION:Pinot & Picasso Rouse Hill\, 4/320 Annangrove Road\, Rouse Hill\, NSW\, 2155\, Australia
CATEGORIES:Workshops
ATTACH;FMTTYPE=:
ORGANIZER;CN="Pinot%20%26%20Picasso":MAILTO:hello@pinotandpicasso.com.au
GEO:-33.6652507;150.9198907
X-APPLE-STRUCTURED-LOCATION;VALUE=URI;X-ADDRESS=Pinot & Picasso Rouse Hill 4/320 Annangrove Road Rouse Hill NSW 2155 Australia;X-APPLE-RADIUS=500;X-TITLE=4/320 Annangrove Road:geo:150.9198907,-33.6652507
END:VEVENT
BEGIN:VEVENT
DTSTART;TZID=Australia/Sydney:20200404T190000
DTEND;TZID=Australia/Sydney:20200404T220000
DTSTAMP:20200229T131228
CREATED:20200221T000554Z
LAST-MODIFIED:20200221T000555Z
UID:82534-1586026800-1586037600@www.pinotandpicasso.com.au
SUMMARY:Femme Fatale
DESCRIPTION:
URL:https://www.pinotandpicasso.com.au/rouse-hill/session/femme-fatale/
LOCATION:Pinot & Picasso Rouse Hill\, 4/320 Annangrove Road\, Rouse Hill\, NSW\, 2155\, Australia
CATEGORIES:Workshops
ATTACH;FMTTYPE=:
ORGANIZER;CN="Pinot%20%26%20Picasso":MAILTO:hello@pinotandpicasso.com.au
GEO:-33.6652507;150.9198907
X-APPLE-STRUCTURED-LOCATION;VALUE=URI;X-ADDRESS=Pinot & Picasso Rouse Hill 4/320 Annangrove Road Rouse Hill NSW 2155 Australia;X-APPLE-RADIUS=500;X-TITLE=4/320 Annangrove Road:geo:150.9198907,-33.6652507
END:VEVENT
BEGIN:VEVENT
DTSTART;TZID=Australia/Sydney:20200405T140000
DTEND;TZID=Australia/Sydney:20200405T170000
DTSTAMP:20200229T131228
CREATED:20200221T000745Z
LAST-MODIFIED:20200221T000746Z
UID:82537-1586095200-1586106000@www.pinotandpicasso.com.au
SUMMARY:Waves
DESCRIPTION:
URL:https://www.pinotandpicasso.com.au/rouse-hill/session/waves-3/
LOCATION:Pinot & Picasso Rouse Hill\, 4/320 Annangrove Road\, Rouse Hill\, NSW\, 2155\, Australia
CATEGORIES:Workshops
ATTACH;FMTTYPE=:
ORGANIZER;CN="Pinot%20%26%20Picasso":MAILTO:hello@pinotandpicasso.com.au
GEO:-33.6652507;150.9198907
X-APPLE-STRUCTURED-LOCATION;VALUE=URI;X-ADDRESS=Pinot & Picasso Rouse Hill 4/320 Annangrove Road Rouse Hill NSW 2155 Australia;X-APPLE-RADIUS=500;X-TITLE=4/320 Annangrove Road:geo:150.9198907,-33.6652507
END:VEVENT
BEGIN:VEVENT
DTSTART;TZID=Australia/Sydney:20200410T190000
DTEND;TZID=Australia/Sydney:20200410T220000
DTSTAMP:20200229T131228
CREATED:20200221T000923Z
LAST-MODIFIED:20200221T000956Z
UID:82540-1586545200-1586556000@www.pinotandpicasso.com.au
SUMMARY:Floral Flamingo
DESCRIPTION:
URL:https://www.pinotandpicasso.com.au/rouse-hill/session/floral-flamingo/
LOCATION:Pinot & Picasso Rouse Hill\, 4/320 Annangrove Road\, Rouse Hill\, NSW\, 2155\, Australia
CATEGORIES:Workshops
ATTACH;FMTTYPE=:
ORGANIZER;CN="Pinot%20%26%20Picasso":MAILTO:hello@pinotandpicasso.com.au
GEO:-33.6652507;150.9198907
X-APPLE-STRUCTURED-LOCATION;VALUE=URI;X-ADDRESS=Pinot & Picasso Rouse Hill 4/320 Annangrove Road Rouse Hill NSW 2155 Australia;X-APPLE-RADIUS=500;X-TITLE=4/320 Annangrove Road:geo:150.9198907,-33.6652507
END:VEVENT
BEGIN:VEVENT
DTSTART;TZID=Australia/Sydney:20200411T150000
DTEND;TZID=Australia/Sydney:20200411T180000
DTSTAMP:20200229T131228
CREATED:20200223T204242Z
LAST-MODIFIED:20200223T204243Z
UID:82817-1586617200-1586628000@www.pinotandpicasso.com.au
SUMMARY:Northern Light
DESCRIPTION:
URL:https://www.pinotandpicasso.com.au/rouse-hill/session/northern-light/
LOCATION:Pinot & Picasso Rouse Hill\, 4/320 Annangrove Road\, Rouse Hill\, NSW\, 2155\, Australia
CATEGORIES:Workshops
ATTACH;FMTTYPE=:
ORGANIZER;CN="Pinot%20%26%20Picasso":MAILTO:hello@pinotandpicasso.com.au
GEO:-33.6652507;150.9198907
X-APPLE-STRUCTURED-LOCATION;VALUE=URI;X-ADDRESS=Pinot & Picasso Rouse Hill 4/320 Annangrove Road Rouse Hill NSW 2155 Australia;X-APPLE-RADIUS=500;X-TITLE=4/320 Annangrove Road:geo:150.9198907,-33.6652507
END:VEVENT
BEGIN:VEVENT
DTSTART;TZID=Australia/Sydney:20200411T190000
DTEND;TZID=Australia/Sydney:20200411T220000
DTSTAMP:20200229T131228
CREATED:20200221T002602Z
LAST-MODIFIED:20200221T002603Z
UID:82548-1586631600-1586642400@www.pinotandpicasso.com.au
SUMMARY:Paint Your Pooch
DESCRIPTION:This session gives you the oppourtunity to paint your adorable furry friend! Send us a picture of your pooch or furry friend at rousehill@pinotandpicasso.com.au and we will provide you with a ready to go sketch on your canvas! \n
URL:https://www.pinotandpicasso.com.au/rouse-hill/session/paint-your-pooch-3/
LOCATION:Pinot & Picasso Rouse Hill\, 4/320 Annangrove Road\, Rouse Hill\, NSW\, 2155\, Australia
CATEGORIES:Workshops
ATTACH;FMTTYPE=:
ORGANIZER;CN="Pinot%20%26%20Picasso":MAILTO:hello@pinotandpicasso.com.au
GEO:-33.6652507;150.9198907
X-APPLE-STRUCTURED-LOCATION;VALUE=URI;X-ADDRESS=Pinot & Picasso Rouse Hill 4/320 Annangrove Road Rouse Hill NSW 2155 Australia;X-APPLE-RADIUS=500;X-TITLE=4/320 Annangrove Road:geo:150.9198907,-33.6652507
END:VEVENT
BEGIN:VEVENT
DTSTART;TZID=Australia/Sydney:20200412T140000
DTEND;TZID=Australia/Sydney:20200412T170000
DTSTAMP:20200229T131228
CREATED:20200221T002737Z
LAST-MODIFIED:20200221T002738Z
UID:82551-1586700000-1586710800@www.pinotandpicasso.com.au
SUMMARY:Ananas
DESCRIPTION:
URL:https://www.pinotandpicasso.com.au/rouse-hill/session/ananas-2/
LOCATION:Pinot & Picasso Rouse Hill\, 4/320 Annangrove Road\, Rouse Hill\, NSW\, 2155\, Australia
CATEGORIES:Workshops
ATTACH;FMTTYPE=:
ORGANIZER;CN="Pinot%20%26%20Picasso":MAILTO:hello@pinotandpicasso.com.au
GEO:-33.6652507;150.9198907
X-APPLE-STRUCTURED-LOCATION;VALUE=URI;X-ADDRESS=Pinot & Picasso Rouse Hill 4/320 Annangrove Road Rouse Hill NSW 2155 Australia;X-APPLE-RADIUS=500;X-TITLE=4/320 Annangrove Road:geo:150.9198907,-33.6652507
END:VEVENT
BEGIN:VEVENT
DTSTART;TZID=Australia/Sydney:20200417T190000
DTEND;TZID=Australia/Sydney:20200417T220000
DTSTAMP:20200229T131228
CREATED:20200221T002942Z
LAST-MODIFIED:20200221T002943Z
UID:82554-1587150000-1587160800@www.pinotandpicasso.com.au
SUMMARY:Bohemian Elephant
DESCRIPTION:
URL:https://www.pinotandpicasso.com.au/rouse-hill/session/bohemian-elephant-4/
LOCATION:Pinot & Picasso Rouse Hill\, 4/320 Annangrove Road\, Rouse Hill\, NSW\, 2155\, Australia
CATEGORIES:Workshops
ATTACH;FMTTYPE=:
ORGANIZER;CN="Pinot%20%26%20Picasso":MAILTO:hello@pinotandpicasso.com.au
GEO:-33.6652507;150.9198907
X-APPLE-STRUCTURED-LOCATION;VALUE=URI;X-ADDRESS=Pinot & Picasso Rouse Hill 4/320 Annangrove Road Rouse Hill NSW 2155 Australia;X-APPLE-RADIUS=500;X-TITLE=4/320 Annangrove Road:geo:150.9198907,-33.6652507
END:VEVENT
BEGIN:VEVENT
DTSTART;TZID=Australia/Sydney:20200418T150000
DTEND;TZID=Australia/Sydney:20200418T180000
DTSTAMP:20200229T131228
CREATED:20200221T003123Z
LAST-MODIFIED:20200221T003124Z
UID:82557-1587222000-1587232800@www.pinotandpicasso.com.au
SUMMARY:Reflections
DESCRIPTION:
URL:https://www.pinotandpicasso.com.au/rouse-hill/session/reflections-6/
LOCATION:Pinot & Picasso Rouse Hill\, 4/320 Annangrove Road\, Rouse Hill\, NSW\, 2155\, Australia
CATEGORIES:Workshops
ATTACH;FMTTYPE=:
ORGANIZER;CN="Pinot%20%26%20Picasso":MAILTO:hello@pinotandpicasso.com.au
GEO:-33.6652507;150.9198907
X-APPLE-STRUCTURED-LOCATION;VALUE=URI;X-ADDRESS=Pinot & Picasso Rouse Hill 4/320 Annangrove Road Rouse Hill NSW 2155 Australia;X-APPLE-RADIUS=500;X-TITLE=4/320 Annangrove Road:geo:150.9198907,-33.6652507
END:VEVENT
BEGIN:VEVENT
DTSTART;TZID=Australia/Sydney:20200418T190000
DTEND;TZID=Australia/Sydney:20200418T220000
DTSTAMP:20200229T131228
CREATED:20200221T003237Z
LAST-MODIFIED:20200221T003238Z
UID:82560-1587236400-1587247200@www.pinotandpicasso.com.au
SUMMARY:Namaste
DESCRIPTION:
URL:https://www.pinotandpicasso.com.au/rouse-hill/session/namaste-3/
LOCATION:Pinot & Picasso Rouse Hill\, 4/320 Annangrove Road\, Rouse Hill\, NSW\, 2155\, Australia
CATEGORIES:Workshops
ATTACH;FMTTYPE=:
ORGANIZER;CN="Pinot%20%26%20Picasso":MAILTO:hello@pinotandpicasso.com.au
GEO:-33.6652507;150.9198907
X-APPLE-STRUCTURED-LOCATION;VALUE=URI;X-ADDRESS=Pinot & Picasso Rouse Hill 4/320 Annangrove Road Rouse Hill NSW 2155 Australia;X-APPLE-RADIUS=500;X-TITLE=4/320 Annangrove Road:geo:150.9198907,-33.6652507
END:VEVENT
BEGIN:VEVENT
DTSTART;TZID=Australia/Sydney:20200419T140000
DTEND;TZID=Australia/Sydney:20200419T170000
DTSTAMP:20200229T131228
CREATED:20200221T003404Z
LAST-MODIFIED:20200221T003405Z
UID:82563-1587304800-1587315600@www.pinotandpicasso.com.au
SUMMARY:Catching Dreams
DESCRIPTION:
URL:https://www.pinotandpicasso.com.au/rouse-hill/session/catching-dreams/
LOCATION:Pinot & Picasso Rouse Hill\, 4/320 Annangrove Road\, Rouse Hill\, NSW\, 2155\, Australia
CATEGORIES:Workshops
ATTACH;FMTTYPE=:
ORGANIZER;CN="Pinot%20%26%20Picasso":MAILTO:hello@pinotandpicasso.com.au
GEO:-33.6652507;150.9198907
X-APPLE-STRUCTURED-LOCATION;VALUE=URI;X-ADDRESS=Pinot & Picasso Rouse Hill 4/320 Annangrove Road Rouse Hill NSW 2155 Australia;X-APPLE-RADIUS=500;X-TITLE=4/320 Annangrove Road:geo:150.9198907,-33.6652507
END:VEVENT
END:VCALENDAR